BEGIN:VCALENDAR
VERSION:2.0
PRODID:-//Lindyland - ECPv6.5.0//NONSGML v1.0//EN
CALSCALE:GREGORIAN
METHOD:PUBLISH
X-ORIGINAL-URL:https://lindyland.com
X-WR-CALDESC:Events for Lindyland
REFRESH-INTERVAL;VALUE=DURATION:PT1H
X-Robots-Tag:noindex
X-PUBLISHED-TTL:PT1H
BEGIN:VTIMEZONE
TZID:America/New_York
BEGIN:DAYLIGHT
TZOFFSETFROM:-0500
TZOFFSETTO:-0400
TZNAME:EDT
DTSTART:20250309T070000
END:DAYLIGHT
BEGIN:STANDARD
TZOFFSETFROM:-0400
TZOFFSETTO:-0500
TZNAME:EST
DTSTART:20251102T060000
END:STANDARD
END:VTIMEZONE
BEGIN:VEVENT
DTSTART;TZID=America/New_York:20251228T210000
DTEND;TZID=America/New_York:20251228T235900
DTSTAMP:20260421T055748
CREATED:20251228T170636Z
LAST-MODIFIED:20251228T170636Z
UID:3842-1766955600-1766966340@lindyland.com
SUMMARY:BIG BAND BLOWOUT
DESCRIPTION:GG BIG BAND BLOWOUT | SUN \n \n 
URL:https://lindyland.com/event/big-band-blowout/
LOCATION:Swing 46 Jazz & Supper Club\, 349 West 46th Street\, New York\, NY\, 10036\, United States
CATEGORIES:Classes/Workshops,Dance Socials,Public Appearance
ATTACH;FMTTYPE=image/jpeg:https://lindyland.com/wp-content/uploads/sites/2/2025/12/Big-Band-Blowout-gptstudio-DEC-28-VERSION2web.jpg
END:VEVENT
BEGIN:VEVENT
DTSTART;TZID=America/New_York:20251227T193000
DTEND;TZID=America/New_York:20251227T233000
DTSTAMP:20260421T055748
CREATED:20251128T213907Z
LAST-MODIFIED:20251225T035105Z
UID:3789-1766863800-1766878200@lindyland.com
SUMMARY:LINDYLAND'S Year Ending Dance Party
DESCRIPTION:Lindyland and Jumpin Entertainment presents:\nIn The Spirit of The Savoy.\nLINDYLAND’S YEAR ENDING swing dance spectacular\n\n\n\nLIVE MUSIC with SWINGADELIC\nDJ SHUFFLEPUCK\nEnjoy the dazzling atmosphere with a 4\,000+ sq ft hardwood dance floor. Plus a spectacular balcony surrounding the entire dance floor.\nDrinks & Snacks Available all night! \nPLUS\nVINTAGE MARKET Stop by our mini marketplace where you can thrift some vintage fashion\, dance accessories and other goodies. And don’t forget to visit Bovellas pop-up shop featuring her signature hair flowers and other handmade pieces. \nLINE UP\n7:30 LINDY WORKSHOP | fun material\nThis workshop will explore class Lindy Hop material\nInstructors: Paolo & Partner\n8:15 Free Beginner Swing Class (open)\nInstructor: Samuel Coleman\n8:45PM LIVE MUSIC \nBAND BREAKS: Join us as we lead the Jive Stroll\, Jitterbug Stroll\, and Rockin’ Around The Christmas Tree (during the band breaks). \n\n\nTICKETS AT EVENTBRITE
URL:https://lindyland.com/event/lindylands-year-ending-dance-party/
LOCATION:St. Paul & St. Andrew United Methodist Chuch\, 263 WEST 86th Street\, New York\, 10024\, United States
CATEGORIES:Classes/Workshops,Dance Socials,Public Appearance
ATTACH;FMTTYPE=image/jpeg:https://lindyland.com/wp-content/uploads/sites/2/2025/11/Lindyland-Poster-DEC-2025web.jpg
ORGANIZER;CN="Jumpin Entertainment LLC":MAILTO:info@JumpinEntertainment.com
END:VEVENT
BEGIN:VEVENT
DTSTART;TZID=America/New_York:20251226T210000
DTEND;TZID=America/New_York:20251226T235900
DTSTAMP:20260421T055748
CREATED:20251218T030357Z
LAST-MODIFIED:20251218T030357Z
UID:3837-1766782800-1766793540@lindyland.com
SUMMARY:Swingadelic at SW46 Final Appearance
DESCRIPTION:SWINGADELIC BIG BAND \n \nCatch our dance instructor PAOLO at 8:40PM and then again at 10pm for a dance lesson.
URL:https://lindyland.com/event/swingadelic-at-sw46-final-appearance/
LOCATION:Swing 46 Jazz & Supper Club\, 349 West 46th Street\, New York\, NY\, 10036\, United States
CATEGORIES:Classes/Workshops,Dance Socials,Public Appearance
ATTACH;FMTTYPE=image/jpeg:https://lindyland.com/wp-content/uploads/sites/2/2023/03/Swingadelic-at-SwingRemix-Carling2016.jpg
END:VEVENT
BEGIN:VEVENT
DTSTART;TZID=America/New_York:20251220T210000
DTEND;TZID=America/New_York:20251220T235900
DTSTAMP:20260421T055748
CREATED:20251218T030119Z
LAST-MODIFIED:20251218T030119Z
UID:3835-1766264400-1766275140@lindyland.com
SUMMARY:TKO Swingin Dance Party
DESCRIPTION:TKO Swingin’ Dance Party w Timatha Kasten SAT \n \nCatch Timatha Kasten and the TKO (Total Knock Out) Dance Party. Plus Dance Lesson With SAMMY at 8:40PM and possibly a part 2 at 10PM
URL:https://lindyland.com/event/tko-swingin-dance-party/
LOCATION:Swing 46 Jazz & Supper Club\, 349 West 46th Street\, New York\, NY\, 10036\, United States
CATEGORIES:Classes/Workshops,Dance Socials,Public Appearance
ATTACH;FMTTYPE=image/jpeg:https://lindyland.com/wp-content/uploads/sites/2/2024/11/Timatha-Kasten-TKO-PARTY-BAND-promo.jpg
END:VEVENT
BEGIN:VEVENT
DTSTART;TZID=America/New_York:20251219T210000
DTEND;TZID=America/New_York:20251220T003000
DTSTAMP:20260421T055748
CREATED:20251214T081315Z
LAST-MODIFIED:20251214T163528Z
UID:3827-1766178000-1766190600@lindyland.com
SUMMARY:Matthew Piazzi & The Debonairs play Swing 46
DESCRIPTION:HOLIDAY PARTY featuring THE DEBONAIRS \n \n 
URL:https://lindyland.com/event/swing-46-features-matthew-piazzi/
LOCATION:Swing 46 Jazz & Supper Club\, 349 West 46th Street\, New York\, NY\, 10036\, United States
CATEGORIES:Classes/Workshops,Dance Socials,Public Appearance
ATTACH;FMTTYPE=image/jpeg:https://lindyland.com/wp-content/uploads/sites/2/2025/07/Matthew-Piazzi-Gantry-Poster-web-version-1740.jpg
END:VEVENT
BEGIN:VEVENT
DTSTART;TZID=America/New_York:20251217T210000
DTEND;TZID=America/New_York:20251217T235900
DTSTAMP:20260421T055748
CREATED:20251218T025645Z
LAST-MODIFIED:20251218T025711Z
UID:3832-1766005200-1766015940@lindyland.com
SUMMARY:SWINGADELIC BIG BAND at SWING 46
DESCRIPTION:Swingadelic Big Band | WED \n \nJoin Us for this incredible big band plus catch the DANCE LESSON at both 8:40pm and then a PART 2 at 10PM with PAOLO of LINDYLAND
URL:https://lindyland.com/event/swingadelic-big-band-at-swing-46-4/
LOCATION:Swing 46 Jazz & Supper Club\, 349 West 46th Street\, New York\, NY\, 10036\, United States
CATEGORIES:Classes/Workshops,Dance Socials,Public Appearance
ATTACH;FMTTYPE=image/jpeg:https://lindyland.com/wp-content/uploads/sites/2/2024/11/Swingadelic-by-Paolo-WEB-IMG_4356.jpg
END:VEVENT
BEGIN:VEVENT
DTSTART;TZID=America/New_York:20251211T203000
DTEND;TZID=America/New_York:20251211T233000
DTSTAMP:20260421T055748
CREATED:20251204T082210Z
LAST-MODIFIED:20251204T135242Z
UID:3803-1765485000-1765495800@lindyland.com
SUMMARY:The Stan Rubin Orchestra at Swing 46
DESCRIPTION:Stan Rubin Orchestra featuring Joe Politi & Lynn McCune | THU \n \nThe Dance instructor on this night will be Paolo Pasta Lanna\, starting at 8:30pm.
URL:https://lindyland.com/event/the-stan-rubin-orchestra-at-swing-46-2/
LOCATION:Swing 46 Jazz & Supper Club\, 349 West 46th Street\, New York\, NY\, 10036\, United States
CATEGORIES:Classes/Workshops,Dance Socials,Public Appearance
ATTACH;FMTTYPE=image/jpeg:https://lindyland.com/wp-content/uploads/sites/2/2025/12/StanRubinJoePolito_screenshot_SWING46.jpg
END:VEVENT
BEGIN:VEVENT
DTSTART;TZID=America/New_York:20251210T203000
DTEND;TZID=America/New_York:20251210T233000
DTSTAMP:20260421T055748
CREATED:20251204T151939Z
LAST-MODIFIED:20251204T151939Z
UID:3807-1765398600-1765409400@lindyland.com
SUMMARY:Swingadelic at Swing 46
DESCRIPTION:Swingadelic Big Band | WED \n \nJoin Swingadelic for this incredible big band sound. Plus catch our lead dance instructor PAOLO for the Intro to Swing class at 8:30PM with a part 2 offered at 10PM
URL:https://lindyland.com/event/swingadelic-at-swing-46-3/
LOCATION:Swing 46 Jazz & Supper Club\, 349 West 46th Street\, New York\, NY\, 10036\, United States
CATEGORIES:Classes/Workshops,Dance Socials,Public Appearance
ATTACH;FMTTYPE=image/jpeg:https://lindyland.com/wp-content/uploads/sites/2/2025/03/Swingadelic-by-Paolo-WEB1000-IMG_4356.jpeg
END:VEVENT
BEGIN:VEVENT
DTSTART;TZID=America/New_York:20251204T203000
DTEND;TZID=America/New_York:20251204T233000
DTSTAMP:20260421T055748
CREATED:20251204T081700Z
LAST-MODIFIED:20251204T081700Z
UID:3801-1764880200-1764891000@lindyland.com
SUMMARY:The Stan Rubin Orchestra at Swing 46 Jazz & Supper Club
DESCRIPTION:Stan Rubin Orchestra featuring Joe Politi & Lynn McCune | THU \n \nThe Intro to Swing dance class will be taught by 30 yr swing dance VETERAN Paolo Pasta Lanna.
URL:https://lindyland.com/event/the-stan-rubin-orchestra-at-swing-46-jazz-supper-club/
LOCATION:Swing 46 Jazz & Supper Club\, 349 West 46th Street\, New York\, NY\, 10036\, United States
CATEGORIES:Classes/Workshops,Dance Socials,Public Appearance
ATTACH;FMTTYPE=image/jpeg:https://lindyland.com/wp-content/uploads/sites/2/2024/11/LynnMcCune_StanRubin2024OCT24.jpg
END:VEVENT
BEGIN:VEVENT
DTSTART;TZID=America/New_York:20251121T210000
DTEND;TZID=America/New_York:20251122T004500
DTSTAMP:20260421T055748
CREATED:20251117T060355Z
LAST-MODIFIED:20251117T060355Z
UID:3784-1763758800-1763772300@lindyland.com
SUMMARY:Matthew Piazzi & The Debonairs at SWING 46
DESCRIPTION:MATTHEW PIAZZI & THE DEBONAIRS | FRI \n \n 
URL:https://lindyland.com/event/matthew-piazzi-the-debonairs-at-swing-46/
LOCATION:Swing 46 Jazz & Supper Club\, 349 West 46th Street\, New York\, NY\, 10036\, United States
CATEGORIES:Classes/Workshops,Dance Socials,Public Appearance
ATTACH;FMTTYPE=image/jpeg:https://lindyland.com/wp-content/uploads/sites/2/2023/12/Matthew-Piazzi-The-Debonairs-2layer-SFX-IMG_6154.jpg
END:VEVENT
BEGIN:VEVENT
DTSTART;TZID=America/New_York:20251116T160000
DTEND;TZID=America/New_York:20251116T180000
DTSTAMP:20260421T055748
CREATED:20251029T041200Z
LAST-MODIFIED:20251029T041200Z
UID:3757-1763308800-1763316000@lindyland.com
SUMMARY:CENTRAL PARK SWING NOV 16
DESCRIPTION:SUNDAY NOV 16
URL:https://lindyland.com/event/central-park-swings-nov16/
LOCATION:King Jagiello Plaza\, E 79th St East Side of the Turtle Pond\,\, New York City\, NY\, 10024\, United States
CATEGORIES:Classes/Workshops,Dance Socials,Public Appearance
ATTACH;FMTTYPE=image/jpeg:https://lindyland.com/wp-content/uploads/sites/2/2025/04/Central-Park-Swings-APR-20-IMG_1252-OPT1080.jpg
ORGANIZER;CN="Jumpin Entertainment LLC":MAILTO:info@JumpinEntertainment.com
END:VEVENT
BEGIN:VEVENT
DTSTART;TZID=America/New_York:20251109T160000
DTEND;TZID=America/New_York:20251109T180000
DTSTAMP:20260421T055748
CREATED:20251029T041613Z
LAST-MODIFIED:20251029T041613Z
UID:3760-1762704000-1762711200@lindyland.com
SUMMARY:Central Park Swings NOV 9
DESCRIPTION:SUN NOV 9 POSTPONED \n \n 
URL:https://lindyland.com/event/central-park-swings-nov-9/
LOCATION:King Jagiello Plaza\, E 79th St East Side of the Turtle Pond\,\, New York City\, NY\, 10024\, United States
CATEGORIES:Classes/Workshops,Dance Socials,Public Appearance
ATTACH;FMTTYPE=image/jpeg:https://lindyland.com/wp-content/uploads/sites/2/2025/09/Central-Park-Swings-SEPT-17croppedweb1080IMG_2577.jpeg
ORGANIZER;CN="Jumpin Entertainment LLC":MAILTO:info@JumpinEntertainment.com
END:VEVENT
BEGIN:VEVENT
DTSTART;TZID=America/New_York:20251108T210000
DTEND;TZID=America/New_York:20251109T010000
DTSTAMP:20260421T055748
CREATED:20251029T040349Z
LAST-MODIFIED:20251029T041330Z
UID:3754-1762635600-1762650000@lindyland.com
SUMMARY:Matthew Piazzi & The Debonairs at SWING 46
DESCRIPTION:https://swing46.nyc/event/sat-matthew-piazzi-debonairs-dec8/ \nCatch Matthew Piazzi & The Debonairs as they headline SWING 46 Jazz & Supper Club. Hardwood dance floor and great cocktails & food till late nite. Plus a complimentary dance class at 8:30pm.
URL:https://lindyland.com/event/the-debonairs-at-swing-46-nov8/
LOCATION:Swing 46 Jazz & Supper Club\, 349 West 46th Street\, New York\, NY\, 10036\, United States
CATEGORIES:Classes/Workshops,Dance Socials,Public Appearance
ATTACH;FMTTYPE=image/jpeg:https://lindyland.com/wp-content/uploads/sites/2/2023/12/Matthew-Piazzi-The-Debonairs-2layer-SFX-IMG_6154.jpg
END:VEVENT
BEGIN:VEVENT
DTSTART;TZID=America/New_York:20251019T160000
DTEND;TZID=America/New_York:20251019T183000
DTSTAMP:20260421T055748
CREATED:20250923T040337Z
LAST-MODIFIED:20250923T040337Z
UID:3703-1760889600-1760898600@lindyland.com
SUMMARY:Central Park Swings SUN OCT 19
DESCRIPTION:Central Park Swings SUN OCT 19 \n \n 
URL:https://lindyland.com/event/central-park-swings-sun-oct-19/
LOCATION:Swing 46 Jazz & Supper Club\, 349 West 46th Street\, New York\, NY\, 10036\, United States
CATEGORIES:Classes/Workshops,Dance Socials,Public Appearance
ATTACH;FMTTYPE=image/jpeg:https://lindyland.com/wp-content/uploads/sites/2/2024/10/Central-Park-Swings-Jitterbug-Stroll-Best-Paolo-June-28-WEB-optimized.jpg
ORGANIZER;CN="Jumpin Entertainment LLC":MAILTO:info@JumpinEntertainment.com
END:VEVENT
BEGIN:VEVENT
DTSTART;TZID=America/New_York:20251017T170000
DTEND;TZID=America/New_York:20251019T170000
DTSTAMP:20260421T055748
CREATED:20251017T025421Z
LAST-MODIFIED:20251017T025421Z
UID:3736-1760720400-1760893200@lindyland.com
SUMMARY:American Lindy Hop Championships
DESCRIPTION:
URL:https://lindyland.com/event/american-lindy-hop-championships/
LOCATION:Good Shepherd Faith Presbyterian Church\, 152 W 66th Street\, New York\, NY\, 10023\, United States
CATEGORIES:Classes/Workshops,Dance Socials,Public Appearance
ATTACH;FMTTYPE=image/jpeg:https://lindyland.com/wp-content/uploads/sites/2/2025/10/ALHC-2025-Event-Schedule-Flyer.jpg
END:VEVENT
BEGIN:VEVENT
DTSTART;TZID=America/New_York:20251012T160000
DTEND;TZID=America/New_York:20251012T183000
DTSTAMP:20260421T055748
CREATED:20250923T035954Z
LAST-MODIFIED:20251012T172247Z
UID:3701-1760284800-1760293800@lindyland.com
SUMMARY:Central Park Swings Postponed to OCT 19th
DESCRIPTION:CANCELLED FOR SUN OCT 12 \n \n 
URL:https://lindyland.com/event/central-park-swings-sun-oct-12/
LOCATION:King Jagiello Plaza\, E 79th St East Side of the Turtle Pond\,\, New York City\, NY\, 10024\, United States
CATEGORIES:Classes/Workshops,Dance Socials,Public Appearance
ATTACH;FMTTYPE=image/jpeg:https://lindyland.com/wp-content/uploads/sites/2/2025/03/rain-1466478PIXABAY.jpg
ORGANIZER;CN="Jumpin Entertainment LLC":MAILTO:info@JumpinEntertainment.com
END:VEVENT
BEGIN:VEVENT
DTSTART;TZID=America/New_York:20251005T160000
DTEND;TZID=America/New_York:20251005T183000
DTSTAMP:20260421T055748
CREATED:20251004T232006Z
LAST-MODIFIED:20251004T232006Z
UID:3723-1759680000-1759689000@lindyland.com
SUMMARY:Central Park Swings SUN OCT 5
DESCRIPTION:Central Park Swings SUN OCT 5 \n \n 
URL:https://lindyland.com/event/central-park-swings-sun-oct-5/
LOCATION:King Jagiello Plaza\, E 79th St East Side of the Turtle Pond\,\, New York City\, NY\, 10024\, United States
CATEGORIES:Classes/Workshops,Dance Socials,Public Appearance
ATTACH;FMTTYPE=image/jpeg:https://lindyland.com/wp-content/uploads/sites/2/2024/08/Select-Sundays_DJ-Shufflepuck-KINGJagiello-Central-Park-Swings-2.jpg
ORGANIZER;CN="Jumpin Entertainment LLC":MAILTO:info@JumpinEntertainment.com
END:VEVENT
BEGIN:VEVENT
DTSTART;TZID=America/New_York:20251002T210000
DTEND;TZID=America/New_York:20251002T235900
DTSTAMP:20260421T055748
CREATED:20250923T035525Z
LAST-MODIFIED:20250923T035525Z
UID:3699-1759438800-1759449540@lindyland.com
SUMMARY:The Stan Rubin Orchestra
DESCRIPTION:Stan Rubin Orchestra featuring Joe Politi & Lynn McCune | THU \n \nJoin dance instructor Paolo\, director of Lindyland for an open level intro to swing class at 8:30pm. Then if we’re lucky\, look out for a part two class at the first band break (est time: 9:50PM). \n 
URL:https://lindyland.com/event/the-stan-rubin-orchestra/
LOCATION:Swing 46 Jazz & Supper Club\, 349 West 46th Street\, New York\, NY\, 10036\, United States
CATEGORIES:Classes/Workshops,Dance Socials,Public Appearance
ATTACH;FMTTYPE=image/jpeg:https://lindyland.com/wp-content/uploads/sites/2/2024/11/LynnMcCune_StanRubin2024OCT24.jpg
END:VEVENT
BEGIN:VEVENT
DTSTART;TZID=America/New_York:20251001T210000
DTEND;TZID=America/New_York:20251001T235900
DTSTAMP:20260421T055748
CREATED:20250923T035207Z
LAST-MODIFIED:20250923T035207Z
UID:3697-1759352400-1759363140@lindyland.com
SUMMARY:SWINGADELIC at SWING 46
DESCRIPTION:Swingadelic Big Band | WED \n \nJoin dance instructor Paolo\, director\nLindyland for an open level intro to swing class at 8:30PM
URL:https://lindyland.com/event/swingadelic-at-swing-46-2/
LOCATION:Swing 46 Jazz & Supper Club\, 349 West 46th Street\, New York\, NY\, 10036\, United States
CATEGORIES:Classes/Workshops,Dance Socials,Public Appearance
ATTACH;FMTTYPE=image/jpeg:https://lindyland.com/wp-content/uploads/sites/2/2025/03/Swingadelic-by-Paolo-WEB1000-IMG_4356.jpeg
END:VEVENT
BEGIN:VEVENT
DTSTART;TZID=America/New_York:20250928T160000
DTEND;TZID=America/New_York:20250928T183000
DTSTAMP:20260421T055748
CREATED:20250915T013617Z
LAST-MODIFIED:20250915T013617Z
UID:3673-1759075200-1759084200@lindyland.com
SUMMARY:Central Park Swings SUN SEPT 28
DESCRIPTION:Central Park Swings SUN SEPT 28
URL:https://lindyland.com/event/central-park-swings-sun-sept-28/
LOCATION:King Jagiello Plaza\, E 79th St East Side of the Turtle Pond\,\, New York City\, NY\, 10024\, United States
CATEGORIES:Classes/Workshops,Dance Socials,Public Appearance
ATTACH;FMTTYPE=image/jpeg:https://lindyland.com/wp-content/uploads/sites/2/2024/09/CentralParkSwings-MAY-2024-john-david-simon.jpg
ORGANIZER;CN="Jumpin Entertainment LLC":MAILTO:info@JumpinEntertainment.com
END:VEVENT
BEGIN:VEVENT
DTSTART;TZID=America/New_York:20250927T210000
DTEND;TZID=America/New_York:20250928T010000
DTSTAMP:20260421T055748
CREATED:20250923T040746Z
LAST-MODIFIED:20250923T040746Z
UID:3705-1759006800-1759021200@lindyland.com
SUMMARY:Ingrid Lucia & The Flying Neutrinos
DESCRIPTION:Ingrid Lucia & The Flying Neutrinos | SAT \n \nRARE Appearance by recording artist Ingrid Lucia & The Flying Neutrinos
URL:https://lindyland.com/event/ingrid-lucia-the-flying-neutrinos-2/
LOCATION:Swing 46 Jazz & Supper Club\, 349 West 46th Street\, New York\, NY\, 10036\, United States
CATEGORIES:Classes/Workshops,Dance Socials,Public Appearance
ATTACH;FMTTYPE=image/jpeg:https://lindyland.com/wp-content/uploads/sites/2/2025/09/Ingrid-Lucia-Poster-2025-Sept27-740web.jpg
END:VEVENT
BEGIN:VEVENT
DTSTART;TZID=America/New_York:20250925T210000
DTEND;TZID=America/New_York:20250925T235900
DTSTAMP:20260421T055748
CREATED:20250913T144841Z
LAST-MODIFIED:20250913T144936Z
UID:3663-1758834000-1758844740@lindyland.com
SUMMARY:The Stan Rubin Orchestra at Swing 46
DESCRIPTION:On this night Swing 46 features a dance class with Paolo at 8:30pm and sometimes a part 2 class at 9:50pm Come join as this band rocks! \n  \nSwingadelic Big Band | WED
URL:https://lindyland.com/event/the-stan-rubin-orchestra-at-swing-46/
LOCATION:Swing 46 Jazz & Supper Club\, 349 West 46th Street\, New York\, NY\, 10036\, United States
CATEGORIES:Classes/Workshops,Dance Socials,Public Appearance
ATTACH;FMTTYPE=image/jpeg:https://lindyland.com/wp-content/uploads/sites/2/2024/11/LynnMcCune_StanRubin2024OCT24.jpg
END:VEVENT
BEGIN:VEVENT
DTSTART;TZID=America/New_York:20250924T210000
DTEND;TZID=America/New_York:20250924T235900
DTSTAMP:20260421T055748
CREATED:20250913T144658Z
LAST-MODIFIED:20250913T144658Z
UID:3661-1758747600-1758758340@lindyland.com
SUMMARY:Swingadelic at Swing 46
DESCRIPTION:On this night Swing 46 features a dance class with Paolo at 8:30pm and sometimes a part 2 class at 9:50pm Come join as this band rocks! \nSwingadelic Big Band | WED \n \n  \n 
URL:https://lindyland.com/event/swingadelic-at-swing-46/
LOCATION:Swing 46 Jazz & Supper Club\, 349 West 46th Street\, New York\, NY\, 10036\, United States
CATEGORIES:Classes/Workshops,Dance Socials,Public Appearance
ATTACH;FMTTYPE=image/jpeg:https://lindyland.com/wp-content/uploads/sites/2/2025/03/Swingadelic-by-Paolo-WEB1000-IMG_4356.jpeg
END:VEVENT
BEGIN:VEVENT
DTSTART;TZID=America/New_York:20250921T160000
DTEND;TZID=America/New_York:20250921T183000
DTSTAMP:20260421T055748
CREATED:20250915T013403Z
LAST-MODIFIED:20250915T013403Z
UID:3670-1758470400-1758479400@lindyland.com
SUMMARY:Central Park Swings SUN SEPT 21
DESCRIPTION:See link for most accurate infomation on Central Park Swings \nCENTRAL PARK SWINGS SUN SEPT 21 \n \n 
URL:https://lindyland.com/event/central-park-swings-sun-sept-21/
LOCATION:King Jagiello Plaza\, E 79th St East Side of the Turtle Pond\,\, New York City\, NY\, 10024\, United States
CATEGORIES:Classes/Workshops,Dance Socials,Public Appearance
ATTACH;FMTTYPE=image/jpeg:https://lindyland.com/wp-content/uploads/sites/2/2025/09/Central-Park-Swings-SEPT-17croppedweb1080IMG_2577.jpeg
ORGANIZER;CN="Jumpin Entertainment LLC":MAILTO:info@JumpinEntertainment.com
END:VEVENT
BEGIN:VEVENT
DTSTART;TZID=America/New_York:20250917T210000
DTEND;TZID=America/New_York:20250917T235900
DTSTAMP:20260421T055748
CREATED:20250913T143450Z
LAST-MODIFIED:20250913T143450Z
UID:3659-1758142800-1758153540@lindyland.com
SUMMARY:Swingadelic Big Band at Swing 46
DESCRIPTION:On this night Swing 46 features a dance class with Paolo at 8:30pm and sometimes a part 2 class at 9:50pm Come join as this band rocks! \nSwingadelic Big Band | WED \n \n 
URL:https://lindyland.com/event/swingadelic-big-band-at-swing-46-3/
LOCATION:Swing 46 Jazz & Supper Club\, 349 West 46th Street\, New York\, NY\, 10036\, United States
CATEGORIES:Classes/Workshops,Dance Socials,Public Appearance
ATTACH;FMTTYPE=image/jpeg:https://lindyland.com/wp-content/uploads/sites/2/2025/03/Swingadelic-by-Paolo-WEB1000-IMG_4356.jpeg
END:VEVENT
BEGIN:VEVENT
DTSTART;TZID=America/New_York:20250913T210000
DTEND;TZID=America/New_York:20250913T235900
DTSTAMP:20260421T055748
CREATED:20250913T143218Z
LAST-MODIFIED:20250913T201404Z
UID:3656-1757797200-1757807940@lindyland.com
SUMMARY:Victor's Vintage Vipers at Swing 46
DESCRIPTION:This band is always entertaining and great for all around partner dancing. \nVictor’s Vintage Vipers | SAT \n \n 
URL:https://lindyland.com/event/victors-vintage-vipers-at-swing-46/
LOCATION:Swing 46 Jazz & Supper Club\, 349 West 46th Street\, New York\, NY\, 10036\, United States
CATEGORIES:Classes/Workshops,Dance Socials,Public Appearance
ATTACH;FMTTYPE=image/jpeg:https://lindyland.com/wp-content/uploads/sites/2/2025/09/Victors-Vipers-Swing-46-web640.jpg
END:VEVENT
BEGIN:VEVENT
DTSTART;TZID=America/New_York:20250913T110000
DTEND;TZID=America/New_York:20250921T230000
DTSTAMP:20260421T055748
CREATED:20250907T152351Z
LAST-MODIFIED:20250907T152351Z
UID:3597-1757761200-1758495600@lindyland.com
SUMMARY:SOS FALL MIGRATION | North Myrtle Beach
DESCRIPTION:Our director will be in attendance for this fabulous world class week of Carolina Shag in North Myrtle Beach. More details below. \nhttps://www.shagdance.com/migration.htm \n 
URL:https://lindyland.com/event/sos-fall-migration-north-myrtle-beach/
LOCATION:North Myrtle Beach\, North Myrtle Beach\, SC\, United States
CATEGORIES:Classes/Workshops,Dance Socials,Public Appearance
ATTACH;FMTTYPE=image/jpeg:https://lindyland.com/wp-content/uploads/sites/2/2025/09/SOS-2025FunSundayFlyer.jpeg
END:VEVENT
BEGIN:VEVENT
DTSTART;TZID=America/New_York:20250907T160000
DTEND;TZID=America/New_York:20250907T183000
DTSTAMP:20260421T055748
CREATED:20250830T160111Z
LAST-MODIFIED:20250830T160111Z
UID:3584-1757260800-1757269800@lindyland.com
SUMMARY:CENTRAL PARK SWINGS Sun Sept 7
DESCRIPTION:CENTRAL PARK SWINGS SUN SEPT 7
URL:https://lindyland.com/event/central-park-swings-sun-sept-7/
LOCATION:King Jagiello Plaza\, E 79th St East Side of the Turtle Pond\,\, New York City\, NY\, 10024\, United States
CATEGORIES:Classes/Workshops,Dance Socials,Public Appearance
ATTACH;FMTTYPE=image/jpeg:https://lindyland.com/wp-content/uploads/sites/2/2024/10/Central-Park-Swings-Jitterbug-Stroll-Best-Paolo-June-28-WEB-optimized.jpg
ORGANIZER;CN="Jumpin Entertainment LLC":MAILTO:info@JumpinEntertainment.com
END:VEVENT
BEGIN:VEVENT
DTSTART;TZID=America/New_York:20250831T180000
DTEND;TZID=America/New_York:20250831T220000
DTSTAMP:20260421T055748
CREATED:20250830T161321Z
LAST-MODIFIED:20250830T161321Z
UID:3586-1756663200-1756677600@lindyland.com
SUMMARY:SUNSET HUSTLE
DESCRIPTION:Try out your Hustle moves at this marvelous outdoor dance party on PIER 84 (by 44th street and West Side Highway just one pier south of The Intrepid). \nSunday\, August 31st the lovely Veronica Castilla will be providing a wonderful beginner Hustle lesson from 6 PM to 7 PM immediately followed by a live DJ set with Oscar Acevedo. So let’s leave it on the hard wood. Sunset Hustle\, Pier 84\, Sunday\, August 31st. \nSAMPLE VIDEO from AUGUST 24\, 2025
URL:https://lindyland.com/event/sunset-hustle/
LOCATION:PIER 84\, 555 12th Ave\, New York\, NY\, 10036\, United States
CATEGORIES:Classes/Workshops,Dance Socials,Public Appearance
ATTACH;FMTTYPE=image/jpeg:https://lindyland.com/wp-content/uploads/sites/2/2025/08/sunset-hustle-instagram-AUG-31.jpg
END:VEVENT
BEGIN:VEVENT
DTSTART;TZID=America/New_York:20250831T160000
DTEND;TZID=America/New_York:20250831T183000
DTSTAMP:20260421T055748
CREATED:20250830T155851Z
LAST-MODIFIED:20250830T155851Z
UID:3582-1756656000-1756665000@lindyland.com
SUMMARY:CENTRAL PARK SWINGS
DESCRIPTION:CENTRAL PARK SWINGS SUN AUG 31 \n \n 
URL:https://lindyland.com/event/central-park-swings-5/
LOCATION:King Jagiello Plaza\, E 79th St East Side of the Turtle Pond\,\, New York City\, NY\, 10024\, United States
CATEGORIES:Classes/Workshops,Dance Socials,Public Appearance
ATTACH;FMTTYPE=image/jpeg:https://lindyland.com/wp-content/uploads/sites/2/2024/10/Central-Park-Swings-Jitterbug-Stroll-Best-Paolo-June-28-WEB-optimized.jpg
ORGANIZER;CN="Jumpin Entertainment LLC":MAILTO:info@JumpinEntertainment.com
END:VEVENT
END:VCALENDAR