BEGIN:VCALENDAR
VERSION:2.0
PRODID:-//Lindyland - ECPv6.5.0//NONSGML v1.0//EN
CALSCALE:GREGORIAN
METHOD:PUBLISH
X-ORIGINAL-URL:https://lindyland.com
X-WR-CALDESC:Events for Lindyland
REFRESH-INTERVAL;VALUE=DURATION:PT1H
X-Robots-Tag:noindex
X-PUBLISHED-TTL:PT1H
BEGIN:VTIMEZONE
TZID:America/New_York
BEGIN:DAYLIGHT
TZOFFSETFROM:-0500
TZOFFSETTO:-0400
TZNAME:EDT
DTSTART:20250309T070000
END:DAYLIGHT
BEGIN:STANDARD
TZOFFSETFROM:-0400
TZOFFSETTO:-0500
TZNAME:EST
DTSTART:20251102T060000
END:STANDARD
BEGIN:DAYLIGHT
TZOFFSETFROM:-0500
TZOFFSETTO:-0400
TZNAME:EDT
DTSTART:20260308T070000
END:DAYLIGHT
BEGIN:STANDARD
TZOFFSETFROM:-0400
TZOFFSETTO:-0500
TZNAME:EST
DTSTART:20261101T060000
END:STANDARD
END:VTIMEZONE
BEGIN:VEVENT
DTSTART;TZID=America/New_York:20251231T193000
DTEND;TZID=America/New_York:20260101T030000
DTSTAMP:20260421T120952
CREATED:20251228T172003Z
LAST-MODIFIED:20251228T172003Z
UID:3853-1767209400-1767236400@lindyland.com
SUMMARY:New Year's Eve Big Band Dance Party
DESCRIPTION:New Year’s Eve Big Band Dance Party 2026 \n \n 
URL:https://lindyland.com/event/new-years-eve-big-band-dance-party/
LOCATION:Swing 46 Jazz & Supper Club\, 349 West 46th Street\, New York\, NY\, 10036\, United States
CATEGORIES:Classes/Workshops,Dance Socials,Public Appearance
ATTACH;FMTTYPE=image/jpeg:https://lindyland.com/wp-content/uploads/sites/2/2025/12/George-Gees-Swingin-Rockin-New-Years-Eve-Bash-2026-WEB1080.jpg
END:VEVENT
BEGIN:VEVENT
DTSTART;TZID=America/New_York:20251231T200000
DTEND;TZID=America/New_York:20260101T010000
DTSTAMP:20260421T120952
CREATED:20251228T172231Z
LAST-MODIFIED:20251228T172231Z
UID:3857-1767211200-1767229200@lindyland.com
SUMMARY:New Year's Eve at Lou Lou
DESCRIPTION:LOU LOU PETIT BISTRO | Adélaïde’s Salon | New Year’s Eve \n \n 
URL:https://lindyland.com/event/new-years-eve-at-lou-lou/
LOCATION:LOULOU Petit Bistro\, LouLou Petit Bistro 176 8th Avenue\,\, New York\, NY\, 10011\, United States
CATEGORIES:Dance Socials,Public Appearance
ATTACH;FMTTYPE=image/jpeg:https://lindyland.com/wp-content/uploads/sites/2/2025/12/New-Years-Eve-at-Lou-Lou-2025-copy.jpg
END:VEVENT
END:VCALENDAR