BEGIN:VCALENDAR
VERSION:2.0
PRODID:-//Lindyland - ECPv6.5.0//NONSGML v1.0//EN
CALSCALE:GREGORIAN
METHOD:PUBLISH
X-WR-CALNAME:Lindyland
X-ORIGINAL-URL:https://lindyland.com
X-WR-CALDESC:Events for Lindyland
REFRESH-INTERVAL;VALUE=DURATION:PT1H
X-Robots-Tag:noindex
X-PUBLISHED-TTL:PT1H
BEGIN:VTIMEZONE
TZID:America/New_York
BEGIN:DAYLIGHT
TZOFFSETFROM:-0500
TZOFFSETTO:-0400
TZNAME:EDT
DTSTART:20250309T070000
END:DAYLIGHT
BEGIN:STANDARD
TZOFFSETFROM:-0400
TZOFFSETTO:-0500
TZNAME:EST
DTSTART:20251102T060000
END:STANDARD
END:VTIMEZONE
BEGIN:VEVENT
DTSTART;TZID=America/New_York:20251217T210000
DTEND;TZID=America/New_York:20251217T235900
DTSTAMP:20260425T083046
CREATED:20251218T025645Z
LAST-MODIFIED:20251218T025711Z
UID:3832-1766005200-1766015940@lindyland.com
SUMMARY:SWINGADELIC BIG BAND at SWING 46
DESCRIPTION:Swingadelic Big Band | WED \n \nJoin Us for this incredible big band plus catch the DANCE LESSON at both 8:40pm and then a PART 2 at 10PM with PAOLO of LINDYLAND
URL:https://lindyland.com/event/swingadelic-big-band-at-swing-46-4/
LOCATION:Swing 46 Jazz & Supper Club\, 349 West 46th Street\, New York\, NY\, 10036\, United States
CATEGORIES:Classes/Workshops,Dance Socials,Public Appearance
ATTACH;FMTTYPE=image/jpeg:https://lindyland.com/wp-content/uploads/sites/2/2024/11/Swingadelic-by-Paolo-WEB-IMG_4356.jpg
END:VEVENT
END:VCALENDAR